BEGIN:VCALENDAR
VERSION:2.0
PRODID:-//Reduce Waste Chicago - ECPv6.15.20//NONSGML v1.0//EN
CALSCALE:GREGORIAN
METHOD:PUBLISH
X-WR-CALNAME:Reduce Waste Chicago
X-ORIGINAL-URL:https://reducewastechicago.org
X-WR-CALDESC:Events for Reduce Waste Chicago
REFRESH-INTERVAL;VALUE=DURATION:PT1H
X-Robots-Tag:noindex
X-PUBLISHED-TTL:PT1H
BEGIN:VTIMEZONE
TZID:America/Chicago
BEGIN:DAYLIGHT
TZOFFSETFROM:-0600
TZOFFSETTO:-0500
TZNAME:CDT
DTSTART:20250309T080000
END:DAYLIGHT
BEGIN:STANDARD
TZOFFSETFROM:-0500
TZOFFSETTO:-0600
TZNAME:CST
DTSTART:20251102T070000
END:STANDARD
BEGIN:DAYLIGHT
TZOFFSETFROM:-0600
TZOFFSETTO:-0500
TZNAME:CDT
DTSTART:20260308T080000
END:DAYLIGHT
BEGIN:STANDARD
TZOFFSETFROM:-0500
TZOFFSETTO:-0600
TZNAME:CST
DTSTART:20261101T070000
END:STANDARD
BEGIN:DAYLIGHT
TZOFFSETFROM:-0600
TZOFFSETTO:-0500
TZNAME:CDT
DTSTART:20270314T080000
END:DAYLIGHT
BEGIN:STANDARD
TZOFFSETFROM:-0500
TZOFFSETTO:-0600
TZNAME:CST
DTSTART:20271107T070000
END:STANDARD
END:VTIMEZONE
BEGIN:VEVENT
DTSTART;TZID=America/Chicago:20260425T110000
DTEND;TZID=America/Chicago:20260425T140000
DTSTAMP:20260422T173438
CREATED:20260403T203041Z
LAST-MODIFIED:20260403T203750Z
UID:8327-1777114800-1777125600@reducewastechicago.org
SUMMARY:ICA's Earth Day Celebration
DESCRIPTION:We’re headed to Buttercup Park for the fourth annual Earth Day Celebration\, hosted by the Institute of Cultural Affairs. This lively\, community-centered event features local organizations and is designed to connect\, empower and inspire!  \n\n\n\nWe will be collecting a limited number of items for reuse\, repurposing and specialty recycling\, so please be sure to check our list of accepted items to prepare for your visit. \n\n\n\n\nLIST OF ACCEPTED ITEMS
URL:https://reducewastechicago.org/event/icas-earth-day-celebration/
LOCATION:Buttercup Park\, 4901 N. Sheridan Rd.\, Chicago\, Illinois\, 60640
CATEGORIES:Mini Collection
END:VEVENT
BEGIN:VEVENT
DTSTART;TZID=America/Chicago:20260530T100000
DTEND;TZID=America/Chicago:20260530T140000
DTSTAMP:20260422T173438
CREATED:20260128T164654Z
LAST-MODIFIED:20260128T165015Z
UID:8052-1780135200-1780149600@reducewastechicago.org
SUMMARY:47th Ward Eco Fest
DESCRIPTION:Save the date for the fifth annual 47th Ward Eco Fest! \n\n\n\nVisit with small businesses\, nonprofits and vendors from the neighborhood and across the city for a day of fun focused on a sustainable future. \n\n\n\nMore details will be posted soon! \n\n\n\nWe’ll be collecting items for reuse\, repurposing and recycling. Check out our updated list of accepted items\, which includes items accepted by Flat Can Recycling\, which will be on site with us. \n\n\n\nVolunteer with us!\n\n\n\nVolunteers are the backbone of what we do. Spend the day with us (or just an hour or two) accepting\, sorting and packing items. You’ll connect\, learn and finish your shift knowing you made a difference. Promise. \n\n\n\n\nVOLUNTEER JUNE 7
URL:https://reducewastechicago.org/event/47th-ward-eco-fest-2026/
LOCATION:Welles Park\, 2333 W. Sunnyside Ave.\, Chicago\, Illinois\, 60625\, United States
CATEGORIES:Full Collection
END:VEVENT
BEGIN:VEVENT
DTSTART;TZID=America/Chicago:20260927T100000
DTEND;TZID=America/Chicago:20260927T160000
DTSTAMP:20260422T173438
CREATED:20260128T165312Z
LAST-MODIFIED:20260128T165336Z
UID:8057-1790503200-1790524800@reducewastechicago.org
SUMMARY:The Sustainability Market
DESCRIPTION:Mark your calendar for our fifth annual Sustainability Market!  \n\n\n\nWith over 20 local small businesses\, artists\, and organizations dedicated to eco-friendly practices\, enjoy a day of community\, creativity\, and conscious living as we come together to make Chicago a more sustainable city. \n\n\n\nYou can drop off items at our Reuse & Recycling Pop-Up or with a host of other collection organizations\, get ready for the Halloween at our annual costume exchange\, explore ways to reduce waste and protect the environment\, or just chill with great food and music. \n\n\n\nDetails will be posted later this year! \n\n\n\n\nLIST OF VENDORS & ACCEPTED ITEMS\n\n\n\n\n\n\n\n\nWant to participate in the Sustainability Market?\n\n\n\n\n\nBecome a vendor!\n\n\n\nApplications are accepted on a rolling basis and are subject to space availability and market needs. \n\n\n\n\n2025 Vendor application\n\n\n\n\n\n\nBecome a sponsor!\n\n\n\nSign up for one of our sponsorship levels or contact us to customize one to fit your business goals. \n\n\n\n\n2025 Sponsor application\n\n\n\n\n\n\nVolunteer with us!\n\n\n\n Spend the day with us or just an hour or two. You’ll leave knowing you made a difference. Promise. \n\n\n\n\nSIGN UP TO VOLUNTEER TODAY\n\n\n\n\n\n\n\n\n\n\nThank you to our 2025 sponsors!\n\n\n\n\n\n\n\n\n\n\n\n\n\n\n\n\n\nAld. Matt Martin\, 47th Ward • Do Good Gardens • EbikeCityZen.com \n\n\n\nGreenwise – Organic Landscaping • Monarch Beauty Farm • One Year for Earth \n\n\n\n Sili+Bells • The Eco Flamingo • Windfree Solar \n\n\n\nAnd our in-kind sponsors
URL:https://reducewastechicago.org/event/the-sustainability-market-2026/
LOCATION:Northcenter Town Square\, 4100 N. Damen Ave.\, Chicago\, Illinois\, 60618\, United States
CATEGORIES:Full Collection
END:VEVENT
END:VCALENDAR